BEGIN:VCALENDAR
VERSION:2.0
PRODID:-//Radiate Wellness - ECPv6.15.20//NONSGML v1.0//EN
CALSCALE:GREGORIAN
METHOD:PUBLISH
X-WR-CALNAME:Radiate Wellness
X-ORIGINAL-URL:https://radiatewellness.org
X-WR-CALDESC:Events for Radiate Wellness
REFRESH-INTERVAL;VALUE=DURATION:PT1H
X-Robots-Tag:noindex
X-PUBLISHED-TTL:PT1H
BEGIN:VTIMEZONE
TZID:America/Denver
BEGIN:DAYLIGHT
TZOFFSETFROM:-0700
TZOFFSETTO:-0600
TZNAME:MDT
DTSTART:20220313T090000
END:DAYLIGHT
BEGIN:STANDARD
TZOFFSETFROM:-0600
TZOFFSETTO:-0700
TZNAME:MST
DTSTART:20221106T080000
END:STANDARD
BEGIN:DAYLIGHT
TZOFFSETFROM:-0700
TZOFFSETTO:-0600
TZNAME:MDT
DTSTART:20230312T090000
END:DAYLIGHT
BEGIN:STANDARD
TZOFFSETFROM:-0600
TZOFFSETTO:-0700
TZNAME:MST
DTSTART:20231105T080000
END:STANDARD
BEGIN:DAYLIGHT
TZOFFSETFROM:-0700
TZOFFSETTO:-0600
TZNAME:MDT
DTSTART:20240310T090000
END:DAYLIGHT
BEGIN:STANDARD
TZOFFSETFROM:-0600
TZOFFSETTO:-0700
TZNAME:MST
DTSTART:20241103T080000
END:STANDARD
BEGIN:DAYLIGHT
TZOFFSETFROM:-0700
TZOFFSETTO:-0600
TZNAME:MDT
DTSTART:20250309T090000
END:DAYLIGHT
BEGIN:STANDARD
TZOFFSETFROM:-0600
TZOFFSETTO:-0700
TZNAME:MST
DTSTART:20251102T080000
END:STANDARD
BEGIN:DAYLIGHT
TZOFFSETFROM:-0700
TZOFFSETTO:-0600
TZNAME:MDT
DTSTART:20260308T090000
END:DAYLIGHT
BEGIN:STANDARD
TZOFFSETFROM:-0600
TZOFFSETTO:-0700
TZNAME:MST
DTSTART:20261101T080000
END:STANDARD
BEGIN:DAYLIGHT
TZOFFSETFROM:-0700
TZOFFSETTO:-0600
TZNAME:MDT
DTSTART:20270314T090000
END:DAYLIGHT
BEGIN:STANDARD
TZOFFSETFROM:-0600
TZOFFSETTO:-0700
TZNAME:MST
DTSTART:20271107T080000
END:STANDARD
END:VTIMEZONE
BEGIN:VEVENT
DTSTART;VALUE=DATE:20260103
DTEND;VALUE=DATE:20260111
DTSTAMP:20260423T134020
CREATED:20240323T201530Z
LAST-MODIFIED:20250125T205510Z
UID:2930-1767398400-1768089599@radiatewellness.org
SUMMARY:Rise and Radiate 2026
DESCRIPTION:Meg invites you to Xinalani Retreat Center. A beautiful eco retreat on the edge of paradise. Rise & Radiate is a week of awareness and healing to raise our Kundalini energy and radiate our true self by clearing away obstacles inhibiting the path to a full and meaningful life! Each day we will practice Kundalini and hot yoga or yin. Every day will also end with a sound bath. The retreat includes multiple hikes\, plenty of time to enjoy the many multiple pools\, dry sauna\, or simply to relax on the perfectly white\, sandy beach. Everyone is encouraged to practice slowing down\, letting go\, and finding contentment in the natural beauty of the retreat center.
URL:https://radiatewellness.org/event/rise-and-radiate/
LOCATION:Xinalani\, Playa Xinalani\, Quimixto\, Jalisco\, Mexico
CATEGORIES:Retreats
ATTACH;FMTTYPE=image/jpeg:https://radiatewellness.org/wp-content/uploads/2023/05/SliderMainSlide1.jpg
END:VEVENT
BEGIN:VEVENT
DTSTART;TZID=America/Denver:20250824T163000
DTEND;TZID=America/Denver:20250824T174000
DTSTAMP:20260423T134020
CREATED:20250405T161549Z
LAST-MODIFIED:20250405T161549Z
UID:5275-1756053000-1756057200@radiatewellness.org
SUMMARY:Sound Bath for the Soul @ Indigo Yoga
DESCRIPTION:Sound baths usually consist of a combination of quartz crystal bowls\, Tibetan bowls\, gongs\, and chimes. The bowls are both heard and felt. \nSinging bowls use the same vibration as energy centers (chakra) at a stronger and louder vibrational frequency to clear locks and ‘tune’ the body. Gongs clear the energy. \nRegister on Mindbody
URL:https://radiatewellness.org/event/sound-bath-for-the-soul-indigo-yoga-1745/
LOCATION:Indigo Yoga\, 3850 Foothills Road Suite #7\, Las Cruces\, NM\, 88011\, United States
CATEGORIES:Sound Baths
ATTACH;FMTTYPE=image/png:https://radiatewellness.org/wp-content/uploads/2023/12/SoundBathNew_Circle.png
END:VEVENT
BEGIN:VEVENT
DTSTART;TZID=America/Denver:20250727T163000
DTEND;TZID=America/Denver:20250727T174000
DTSTAMP:20260423T134020
CREATED:20250405T161443Z
LAST-MODIFIED:20250405T161546Z
UID:5273-1753633800-1753638000@radiatewellness.org
SUMMARY:Sound Bath for the Soul @ Indigo Yoga
DESCRIPTION:Sound baths usually consist of a combination of quartz crystal bowls\, Tibetan bowls\, gongs\, and chimes. The bowls are both heard and felt. \nSinging bowls use the same vibration as energy centers (chakra) at a stronger and louder vibrational frequency to clear locks and ‘tune’ the body. Gongs clear the energy. \nRegister on Mindbody
URL:https://radiatewellness.org/event/sound-bath-for-the-soul-indigo-yoga-copy-2/
LOCATION:Indigo Yoga\, 3850 Foothills Road Suite #7\, Las Cruces\, NM\, 88011\, United States
CATEGORIES:Sound Baths
ATTACH;FMTTYPE=image/png:https://radiatewellness.org/wp-content/uploads/2023/12/SoundBathNew_Circle.png
END:VEVENT
BEGIN:VEVENT
DTSTART;TZID=America/Denver:20250518T163000
DTEND;TZID=America/Denver:20250518T174000
DTSTAMP:20260423T134020
CREATED:20250405T161428Z
LAST-MODIFIED:20250405T161543Z
UID:5270-1747585800-1747590000@radiatewellness.org
SUMMARY:Sound Bath for the Soul @ Indigo Yoga
DESCRIPTION:Sound baths usually consist of a combination of quartz crystal bowls\, Tibetan bowls\, gongs\, and chimes. The bowls are both heard and felt. \nSinging bowls use the same vibration as energy centers (chakra) at a stronger and louder vibrational frequency to clear locks and ‘tune’ the body. Gongs clear the energy. \nRegister on Mindbody
URL:https://radiatewellness.org/event/sound-bath-for-the-soul-indigo-yoga-copy/
LOCATION:Indigo Yoga\, 3850 Foothills Road Suite #7\, Las Cruces\, NM\, 88011\, United States
CATEGORIES:Sound Baths
ATTACH;FMTTYPE=image/png:https://radiatewellness.org/wp-content/uploads/2023/12/SoundBathNew_Circle.png
END:VEVENT
BEGIN:VEVENT
DTSTART;TZID=America/Denver:20250427T163000
DTEND;TZID=America/Denver:20250427T174000
DTSTAMP:20260423T134020
CREATED:20250405T161336Z
LAST-MODIFIED:20250405T161336Z
UID:5104-1745771400-1745775600@radiatewellness.org
SUMMARY:Sound Bath for the Soul @ Indigo Yoga
DESCRIPTION:Sound baths usually consist of a combination of quartz crystal bowls\, Tibetan bowls\, gongs\, and chimes. The bowls are both heard and felt. \nSinging bowls use the same vibration as energy centers (chakra) at a stronger and louder vibrational frequency to clear locks and ‘tune’ the body. Gongs clear the energy. \nRegister on Mindbody
URL:https://radiatewellness.org/event/sound-bath-for-the-soul-indigo-yoga-1680/
LOCATION:Indigo Yoga\, 3850 Foothills Road Suite #7\, Las Cruces\, NM\, 88011\, United States
CATEGORIES:Sound Baths
ATTACH;FMTTYPE=image/png:https://radiatewellness.org/wp-content/uploads/2023/12/SoundBathNew_Circle.png
END:VEVENT
BEGIN:VEVENT
DTSTART;TZID=America/Denver:20250425T113000
DTEND;TZID=America/Denver:20250425T130000
DTSTAMP:20260423T134020
CREATED:20250405T153636Z
LAST-MODIFIED:20250405T153636Z
UID:3529-1745580600-1745586000@radiatewellness.org
SUMMARY:Session 2: Pranavama & Our 10 Energetic Bodies
DESCRIPTION:Demystifying Kundalini: The Power of Prana \nThis is a 2-session workshop. $30 for an individual session\, $50 for both. \nIn session 2 we will explore: \n\nStrengthen your energetic bodies through kriya and breathwork\nDiscover how prana supports your energetic system\nEngage in practical techniques to enhance vitalty\n\nRegister on MindBody. Cash or Check day of at the studio.
URL:https://radiatewellness.org/event/session-2-pranavama-our-10-energetic-bodies/
LOCATION:Indigo Yoga\, 3850 Foothills Road Suite #7\, Las Cruces\, NM\, 88011\, United States
CATEGORIES:Workshops,Yoga
ATTACH;FMTTYPE=image/png:https://radiatewellness.org/wp-content/uploads/2025/04/prana-workshop-flyer.png
END:VEVENT
BEGIN:VEVENT
DTSTART;TZID=America/Denver:20250411T113000
DTEND;TZID=America/Denver:20250411T130000
DTSTAMP:20260423T134020
CREATED:20250405T153203Z
LAST-MODIFIED:20250405T153619Z
UID:3525-1744371000-1744376400@radiatewellness.org
SUMMARY:Session 1: The Pranic Vayus - Directional Movement of Prana
DESCRIPTION:Demystifying Kundalini: The Power of Prana \nThis is a 2-session workshop. $30 for an individual session\, $50 for both. \nIn session 1 we will explore: \n\nThe pranic vayus and their role in life and death\nUnderstand the vayus consolidation point through kriya practice\nExperience guided meditation for shifting your vayus\n\nRegister on MindBody. Cash or Check day of at the studio.
URL:https://radiatewellness.org/event/the-pranic-vayus-directional-movement-of-prana/
LOCATION:Indigo Yoga\, 3850 Foothills Road Suite #7\, Las Cruces\, NM\, 88011\, United States
CATEGORIES:Workshops,Yoga
ATTACH;FMTTYPE=image/png:https://radiatewellness.org/wp-content/uploads/2025/04/prana-workshop-flyer.png
END:VEVENT
BEGIN:VEVENT
DTSTART;VALUE=DATE:20240309
DTEND;VALUE=DATE:20240317
DTSTAMP:20260423T134020
CREATED:20230524T054227Z
LAST-MODIFIED:20230807T232615Z
UID:2264-1709942400-1710633599@radiatewellness.org
SUMMARY:Rise and Radiate Retreat @ Xinalani
DESCRIPTION:A Kundalini and Sound Bath Experience at Xinalani Eco Resort. \nClick here for more info. \n\n\n\n\n\n\nRetreat Includes:\n\n\n\n\n\n\n\n\n\n\n\n\n\n7 nights lodging at Xinalani Retreat Center \nAirport transfers and boat ride to retreat center\n3 deliciously healthy meals served daily\nSnorkel equipment & kayak\n2 yoga classes and sound bath daily\nDharma talks\nRidge hike and day trip to Los Animas\nDay hike to Quimixto Waterfall\nBeachside pools\, Dry Sauna\nFiltered water\nYoga mat and yoga props\nCommunity\, Self reflection\, and Relaxation\nSpa services (additional fee applies)\n\n*Flights and gratuity not included
URL:https://radiatewellness.org/event/rise-and-radiate-retreat-xinalani/
LOCATION:Xinalani\, Playa Xinalani\, Quimixto\, Jalisco\, Mexico
CATEGORIES:Retreats
ATTACH;FMTTYPE=image/jpeg:https://radiatewellness.org/wp-content/uploads/2023/05/Propiedad_Dron_3-1-scaled.jpg
END:VEVENT
BEGIN:VEVENT
DTSTART;TZID=America/Denver:20231231T133000
DTEND;TZID=America/Denver:20231231T143000
DTSTAMP:20260423T134020
CREATED:20231201T230042Z
LAST-MODIFIED:20231201T230042Z
UID:2840-1704029400-1704033000@radiatewellness.org
SUMMARY:Sound Bath @ Indigo Yoga
DESCRIPTION:Sound baths usually consist of a combination of quartz crystal bowls\, Tibetan bowls\, gongs\, and chimes. The bowls are both heard and felt. \nSinging bowls use the same vibration as energy centers (chakra) at a stronger and louder vibrational frequency to clear locks and ‘tune’ the body. Gongs clear the energy.
URL:https://radiatewellness.org/event/sound-bath-indigo-yoga-3/
LOCATION:Indigo Yoga\, 3850 Foothills Road Suite #7\, Las Cruces\, NM\, 88011\, United States
CATEGORIES:Sound Baths
ATTACH;FMTTYPE=image/png:https://radiatewellness.org/wp-content/uploads/2023/05/SoundHeal_Circle.png
END:VEVENT
BEGIN:VEVENT
DTSTART;TZID=America/Denver:20231126T163000
DTEND;TZID=America/Denver:20231126T171500
DTSTAMP:20260423T134020
CREATED:20231011T171819Z
LAST-MODIFIED:20231011T171819Z
UID:2784-1701016200-1701018900@radiatewellness.org
SUMMARY:Sound Bath @ Indigo Yoga
DESCRIPTION:Sound baths usually consist of a combination of quartz crystal bowls\, Tibetan bowls\, gongs\, and chimes. The bowls are both heard and felt. \nSinging bowls use the same vibration as energy centers (chakra) at a stronger and louder vibrational frequency to clear locks and ‘tune’ the body. Gongs clear the energy.
URL:https://radiatewellness.org/event/sound-bath-indigo-yoga-2/
LOCATION:Indigo Yoga\, 3850 Foothills Road Suite #7\, Las Cruces\, NM\, 88011\, United States
ATTACH;FMTTYPE=image/png:https://radiatewellness.org/wp-content/uploads/2023/05/SoundHeal_Circle.png
END:VEVENT
BEGIN:VEVENT
DTSTART;TZID=America/Denver:20231119T150000
DTEND;TZID=America/Denver:20231119T161500
DTSTAMP:20260423T134020
CREATED:20231011T172555Z
LAST-MODIFIED:20231101T213951Z
UID:2788-1700406000-1700410500@radiatewellness.org
SUMMARY:Sound Bath @ The School House
DESCRIPTION:The sound bath will consist of a combination of quartz crystal bowls\, Tibetan bowls\, gongs and chimes. The bowls are both heard and felt. \nSinging bowls use the same vibration as energy centers (chakra) at a stronger and louder vibrational fre-quency to clear locks and ‘tune’ the body. Gongs clear the energy. \nDuring the sound bath you will lay on the floor for about 40 minutes. \nOnline payments for this event are accepted HERE.
URL:https://radiatewellness.org/event/sound-bath-the-school-house/
LOCATION:The School House in Organ\, 15890 B St\, Organ\,\, NM\, 88052
CATEGORIES:Sound Baths
ATTACH;FMTTYPE=image/png:https://radiatewellness.org/wp-content/uploads/2023/05/SoundHeal_Circle.png
END:VEVENT
BEGIN:VEVENT
DTSTART;TZID=America/Denver:20231029T163000
DTEND;TZID=America/Denver:20231029T171500
DTSTAMP:20260423T134020
CREATED:20231011T171608Z
LAST-MODIFIED:20231011T171912Z
UID:2782-1698597000-1698599700@radiatewellness.org
SUMMARY:Sound Bath @ Indigo Yoga
DESCRIPTION:Sound baths usually consist of a combination of quartz crystal bowls\, Tibetan bowls\, gongs\, and chimes. The bowls are both heard and felt. \nSinging bowls use the same vibration as energy centers (chakra) at a stronger and louder vibrational frequency to clear locks and ‘tune’ the body. Gongs clear the energy.
URL:https://radiatewellness.org/event/sound-bath-indigo-yoga/
LOCATION:Indigo Yoga\, 3850 Foothills Road Suite #7\, Las Cruces\, NM\, 88011\, United States
CATEGORIES:Sound Baths
ATTACH;FMTTYPE=image/png:https://radiatewellness.org/wp-content/uploads/2023/05/SoundHeal_Circle.png
END:VEVENT
BEGIN:VEVENT
DTSTART;TZID=America/Denver:20230826T170000
DTEND;TZID=America/Denver:20230826T181500
DTSTAMP:20260423T134020
CREATED:20230524T053501Z
LAST-MODIFIED:20230613T034536Z
UID:2261-1693069200-1693073700@radiatewellness.org
SUMMARY:Sound Bath @ Shanti Yoga
DESCRIPTION:Sound baths usually consist of a combination of quartz crystal bowls\, Tibetan bowls\, gongs\, and chimes. The bowls are both heard and felt. \nSinging bowls use the same vibration as energy centers (chakra) at a stronger and louder vibrational frequency to clear locks and ‘tune’ the body. Gongs clear the energy.
URL:https://radiatewellness.org/event/sound-bath-shanti-yoga/
LOCATION:Shanti Yoga\, 1201 Airway Blvd ste D1\, El Paso\, TX\, 79925\, United States
CATEGORIES:Sound Baths
ATTACH;FMTTYPE=image/png:https://radiatewellness.org/wp-content/uploads/2023/05/SoundHeal_Circle.png
END:VEVENT
BEGIN:VEVENT
DTSTART;TZID=America/Denver:20230806T130000
DTEND;TZID=America/Denver:20230806T150000
DTSTAMP:20260423T134020
CREATED:20230513T034952Z
LAST-MODIFIED:20230613T035548Z
UID:2519-1691326800-1691334000@radiatewellness.org
SUMMARY:Rise & Radiate Info Session
DESCRIPTION:Want to hear more about the retreat? Have a questions about transport? Payments? \nCome to the August 6th info session at 1pm at Indigo Yoga 3850 Foothills Rd Suite #8\, Las Cruces
URL:https://radiatewellness.org/event/rise-radiate-info-session/
LOCATION:Indigo Yoga\, 3850 Foothills Road Suite #7\, Las Cruces\, NM\, 88011\, United States
CATEGORIES:Retreats
ATTACH;FMTTYPE=image/jpeg:https://radiatewellness.org/wp-content/uploads/2023/05/SliderMainSlide1.jpg
END:VEVENT
BEGIN:VEVENT
DTSTART;TZID=America/Denver:20230730T163000
DTEND;TZID=America/Denver:20230730T174500
DTSTAMP:20260423T134020
CREATED:20230524T053031Z
LAST-MODIFIED:20230613T043239Z
UID:2257-1690734600-1690739100@radiatewellness.org
SUMMARY:Sound Bath @ Indigo Yoga
DESCRIPTION:Sound baths usually consist of a combination of quartz crystal bowls\, Tibetan bowls\, gongs\, and chimes. The bowls are both heard and felt. \nSinging bowls use the same vibration as energy centers (chakra) at a stronger and louder vibrational frequency to clear locks and ‘tune’ the body. Gongs clear the energy.
URL:https://radiatewellness.org/event/sound-bath-indigo-3/
LOCATION:Indigo Yoga\, 3850 Foothills Road Suite #7\, Las Cruces\, NM\, 88011\, United States
CATEGORIES:Sound Baths
ATTACH;FMTTYPE=image/png:https://radiatewellness.org/wp-content/uploads/2023/05/SoundHeal_Circle.png
END:VEVENT
BEGIN:VEVENT
DTSTART;TZID=America/Denver:20230611T163000
DTEND;TZID=America/Denver:20230611T174500
DTSTAMP:20260423T134020
CREATED:20230524T052353Z
LAST-MODIFIED:20230613T033557Z
UID:2249-1686501000-1686505500@radiatewellness.org
SUMMARY:Sound Bath @ Indigo Yoga
DESCRIPTION:Sound baths usually consist of a combination of quartz crystal bowls\, Tibetan bowls\, gongs\, and chimes. The bowls are both heard and felt. \nSinging bowls use the same vibration as energy centers (chakra) at a stronger and louder vibrational frequency to clear locks and ‘tune’ the body. Gongs clear the energy.
URL:https://radiatewellness.org/event/sound-bath-indigo-2/
LOCATION:Indigo Yoga\, 3850 Foothills Road Suite #7\, Las Cruces\, NM\, 88011\, United States
CATEGORIES:Sound Baths
ATTACH;FMTTYPE=image/png:https://radiatewellness.org/wp-content/uploads/2023/05/SoundHeal_Circle.png
END:VEVENT
BEGIN:VEVENT
DTSTART;TZID=America/Denver:20230521T080000
DTEND;TZID=America/Denver:20230521T080000
DTSTAMP:20260423T134020
CREATED:20230519T030407Z
LAST-MODIFIED:20230613T033614Z
UID:1926-1684656000-1684656000@radiatewellness.org
SUMMARY:Sound Bath @ Indigo
DESCRIPTION:
URL:https://radiatewellness.org/event/sound-bath-indigo/
LOCATION:Indigo Yoga\, 3850 Foothills Road Suite #7\, Las Cruces\, NM\, 88011\, United States
CATEGORIES:Sound Baths
END:VEVENT
END:VCALENDAR