BEGIN:VCALENDAR
VERSION:2.0
PRODID:-//Radiate Wellness - ECPv6.15.20//NONSGML v1.0//EN
CALSCALE:GREGORIAN
METHOD:PUBLISH
X-WR-CALNAME:Radiate Wellness
X-ORIGINAL-URL:https://radiatewellness.org
X-WR-CALDESC:Events for Radiate Wellness
REFRESH-INTERVAL;VALUE=DURATION:PT1H
X-Robots-Tag:noindex
X-PUBLISHED-TTL:PT1H
BEGIN:VTIMEZONE
TZID:America/Denver
BEGIN:DAYLIGHT
TZOFFSETFROM:-0700
TZOFFSETTO:-0600
TZNAME:MDT
DTSTART:20260308T090000
END:DAYLIGHT
BEGIN:STANDARD
TZOFFSETFROM:-0600
TZOFFSETTO:-0700
TZNAME:MST
DTSTART:20261101T080000
END:STANDARD
BEGIN:DAYLIGHT
TZOFFSETFROM:-0700
TZOFFSETTO:-0600
TZNAME:MDT
DTSTART:20270314T090000
END:DAYLIGHT
BEGIN:STANDARD
TZOFFSETFROM:-0600
TZOFFSETTO:-0700
TZNAME:MST
DTSTART:20271107T080000
END:STANDARD
BEGIN:DAYLIGHT
TZOFFSETFROM:-0700
TZOFFSETTO:-0600
TZNAME:MDT
DTSTART:20280312T090000
END:DAYLIGHT
BEGIN:STANDARD
TZOFFSETFROM:-0600
TZOFFSETTO:-0700
TZNAME:MST
DTSTART:20281105T080000
END:STANDARD
END:VTIMEZONE
BEGIN:VEVENT
DTSTART;VALUE=DATE:20270102
DTEND;VALUE=DATE:20270110
DTSTAMP:20260423T040618
CREATED:20260216T210027Z
LAST-MODIFIED:20260216T210027Z
UID:6385-1798848000-1799539199@radiatewellness.org
SUMMARY:Rise and Radiate 2027
DESCRIPTION:Meg invites you to Xinalani Retreat Center. A beautiful eco retreat on the edge of paradise. Rise & Radiate is a week of awareness and healing to raise our Kundalini energy and radiate our true self by clearing away obstacles inhibiting the path to a full and meaningful life! Each day we will practice Kundalini and hot yoga or yin. Every day will also end with a sound bath. The retreat includes multiple hikes\, plenty of time to enjoy the many multiple pools\, dry sauna\, or simply to relax on the perfectly white\, sandy beach. Everyone is encouraged to practice slowing down\, letting go\, and finding contentment in the natural beauty of the retreat center. \nBook here.
URL:https://radiatewellness.org/event/rise-and-radiate-2027/
LOCATION:Xinalani\, Playa Xinalani\, Quimixto\, Jalisco\, Mexico
CATEGORIES:Retreats
ATTACH;FMTTYPE=image/jpeg:https://radiatewellness.org/wp-content/uploads/2023/05/SliderMainSlide1.jpg
END:VEVENT
END:VCALENDAR